BEGIN:VCALENDAR
VERSION:2.0
PRODID:-//wp-events-plugin.com//7.2.3.1//EN
BEGIN:VEVENT
UID:10@patrigraphia.fr
DTSTART;VALUE=DATE:20210304
DTEND;VALUE=DATE:20210305
DTSTAMP:20210313T154835Z
URL:https://patrigraphia.fr/events/4262
SUMMARY:Essai
DESCRIPTION:[gallery ids="4225\,4207\,4195"]\n\n\n\n
CATEGORIES:Permanence,terminées
END:VEVENT
BEGIN:VEVENT
UID:1@patrigraphia.fr
DTSTART:20210313T140000Z
DTEND:20210313T180000Z
DTSTAMP:20210314T094633Z
URL:https://patrigraphia.fr/events/lautrec
SUMMARY:Lautrec
DESCRIPTION:\n\nPhotos de la sortie\n\n\n\n\n
CATEGORIES:Sortie,terminées
END:VEVENT
BEGIN:VEVENT
UID:4@patrigraphia.fr
DTSTART:20210403T090000Z
DTEND:20210403T120000Z
DTSTAMP:20210307T102802Z
URL:https://patrigraphia.fr/events/permanence
SUMMARY:Permanence
DESCRIPTION:Vous pouvez venir nous rencontrer lors de nos permanences\n\nN'
 hésitez pas.\n
CATEGORIES:Permanence
END:VEVENT
BEGIN:VEVENT
UID:2@patrigraphia.fr
DTSTART:20210404T080000Z
DTEND:20210404T180000Z
DTSTAMP:20210306T160319Z
URL:https://patrigraphia.fr/events/chateaux-cathares
SUMMARY:Châteaux Cathares
DESCRIPTION:Sortie sur les châteaux cathares organisées par Bertrand pour
  de la photo sur le patrimoine\, le paysage et éventuellement de l'animal
 ier.\n\nRDV St Julia genre 8h ou 8h30 en fonction du lieu\n\nPrévoir la j
 ournée.\n\nCo voiturage possible sauf pour les pro Covid !\n\nPrévoir : 
 chaussures de marche\, eau\, pique nique (pas de restos même si ré ouver
 ts)\, vêtement dans lesquels on est à l'aise\, chapeau / casquette si so
 leil\, lunettes de soleil....\n\nSi Roquefixade et Montségur : prévoir l
 es montées au château : environ 30 min pour un petit marcheur\n\nEt de 
 la monnaie car les entrées peuvent être payantes\n\n&nbsp\;\nRéserver s
 a place\n
CATEGORIES:Sortie
END:VEVENT
BEGIN:VEVENT
UID:3@patrigraphia.fr
DTSTART:20210417T140000Z
DTEND:20210417T180000Z
DTSTAMP:20210312T131453Z
URL:https://patrigraphia.fr/events/etangs-de-bages
SUMMARY:Étangs de Bages
DESCRIPTION:Sortie sur les étangs de Bages organisée par Guy (Paysage\, a
 nimalier\, ...)\n\nDépart 14h00\n\nRetour fin de journée (après coucher
  du soleil) / petit circuit autour des étangs ( flamands roses)  avec qu
 elques promenades à pied mais pas très difficiles en attendant le couche
 r du soleil. Ensuite\, c'est le retour.\n\nPour les vêtements\, la mété
 o nous le dira.\n\nOn demandera aux personnes participantes si elles veule
 nt faire un resto (si ils recouvrent d’ici là)\n\n&nbsp\;\nRéserver sa
  place\n&nbsp\;\n\n&nbsp\;\n\n\n
CATEGORIES:Sortie
END:VEVENT
BEGIN:VEVENT
UID:7@patrigraphia.fr
DTSTART:20210424T090000Z
DTEND:20210424T180000Z
DTSTAMP:20210307T104336Z
URL:https://patrigraphia.fr/events/urbex
SUMMARY:Urbex
DESCRIPTION:Sortie Ubex organisée par Mathilde\n\nPrévoir départ vers 10
 h30 (il y a 1h30 de route) avec Rdv au parking d’Intermarché (côté st
 ation essence)\n\nDéjeuner sur place PIQUE NIQUE\n\nEt début de la visit
 e\n\nPrévoir fin vers 16h\n\nEt retour sur Revel vers 18h pour voir large
 \n\nPrès du lavoir il y a aussi un parc avec d’anciennes machines impre
 ssionnantes… A voir si on a le temps.\n\nA prévoir :\n\n- bonnes chauss
 ures à semelles épaisses (type chaussures de randonnée)\n\n- vêtements
  foncés\, confortables et chauds (prévoir en fonction du temps) // panta
 lon dans tous les cas\n\n- lampe torche ou frontale\n\n- trépied (car som
 bre)\n\n- téléphone chargé\n\n- pique nique\n\n- si possible filtre de 
 protection sur objectif\n\nRappels des règles :\n\n- Discrétion\n\n- Non
  divulgation des sites\n\n- Ne pas dégrader\n\n- Ne rien prendre\n\n- Ne 
 rien déplacer\n\n- Respecter le lieu\n\n- Regarder où vous mettez les pi
 eds\n\n- comprendre les dangers de la pratique\n\n- garder en tête que le
 s sites sont des propriétés privées….\n\n- comprendre qu’une fois s
 ur place\, le site peut être fermé\, ou les flics peuvent nous demander 
 (gentiment ou non) de rentrer chez nous.\n\n- ne pas prendre des photos de
 s personnes présentes sur le site\n\nPS : Par contre\, niveau voiture\, i
 l faudra prévoir\, car moi il faut que j’évite de faire de la route av
 ec la mienne.\n\n&nbsp\;\nRéserver sa place\n
CATEGORIES:Sortie
END:VEVENT
BEGIN:VEVENT
UID:5@patrigraphia.fr
DTSTART:20210501T090000Z
DTEND:20210501T120000Z
DTSTAMP:20210307T102915Z
URL:https://patrigraphia.fr/events/permanence-2
SUMMARY:Permanence
DESCRIPTION:Vous pouvez venir nous rencontrer lors de nos permanences\n\nN'
 hésitez pas.\n\nNB : Pourra être reportée au 8 mai selon circonstances\
 n\n\n
CATEGORIES:Permanence
END:VEVENT
BEGIN:VEVENT
UID:6@patrigraphia.fr
DTSTART:20210508T090000Z
DTEND:20210508T120000Z
DTSTAMP:20210307T102943Z
URL:https://patrigraphia.fr/events/permanence-3
SUMMARY:Permanence
DESCRIPTION:Vous pouvez venir nous rencontrer lors de nos permanences\n\nN'
 hésitez pas.\n\n
CATEGORIES:Permanence
END:VEVENT
BEGIN:VEVENT
UID:8@patrigraphia.fr
DTSTART:20210516T110000Z
DTEND:20210516T180000Z
DTSTAMP:20210307T110059Z
URL:https://patrigraphia.fr/events/jardin-des-martels
SUMMARY:Jardin des Martels
DESCRIPTION:Sortie au Jardin des Martels organisée par Jean-Marc pour le p
 hotographie macro\, animalier\n\nLes jardins n’ouvrent qu’à 13h30 en 
 ce moment (ça changera peut-être)\n\nDépart vers 11h00 avec le pique ni
 que\, je trouverai un endroit sympa aux abords des Jardins ou dans les Jar
 dins s’ils rouvrent dans la matinée\n\nRDV à Revel devant la maison de
 s jeunes (ancienne gare) à 11h00 (1h de route pour Giroussens)\n\nPrévoi
 r chaussures de marche genre baskets car le parc est grand\n\nL’entrée 
 est payante (9€80 adulte et 6\,80 jeune) mais si nous sommes plus de 10 
 on bénéficiera d’un tarif de groupe\n\nEn cette période de covid\, la
  réservation est obligatoire (donc le paiement\, le club avancera les fra
 is) afin de respecter les quotas dont il faudra s’y prendre à l’avanc
 e.\n\nPrévoir pied photo ou monopode\, objectif macro pour ceux qui ont.\
 n\nRetour en fin de journée\n\nCo-voiturage possible\n\n&nbsp\;\nRéserve
 r sa place\n\n\n
CATEGORIES:Sortie
END:VEVENT
BEGIN:VEVENT
UID:9@patrigraphia.fr
DTSTART:20210613T100000Z
DTEND:20210613T180000Z
DTSTAMP:20210307T110134Z
URL:https://patrigraphia.fr/events/eaux-vives
SUMMARY:Eaux vives
DESCRIPTION:Sortie sur l'eau vive organisée par Jean-Marc pour de la photo
  sur l'eau\, le temps de pose\, le filé\, ....\n\nLieu non encore défini
 t\n\nSur la journée avec pique nique\n\nDépart à partir de Revel entre 
 8h30 et 9h30 en fonction du lieu\n\nPrévoir chaussures et tenue de marche
 ur\n\nPrévoir pied ou monopode\, déclencheur à distance\, filtre ND pou
 r ceux qui ont.\n\nRetour en fin de journée\n\n&nbsp\;\nRéserver sa plac
 e\n\n\n\n
CATEGORIES:Sortie
END:VEVENT
BEGIN:VEVENT
UID:13@patrigraphia.fr
DTSTART:20211001T190000Z
DTEND:20211001T220000Z
DTSTAMP:20210927T153938Z
URL:https://patrigraphia.fr/events/soiree-rencontre
SUMMARY:Soirée rencontre
DESCRIPTION:
END:VEVENT
BEGIN:VEVENT
UID:11@patrigraphia.fr
DTSTART:20211002T090000Z
DTEND:20211002T120000Z
DTSTAMP:20210927T153810Z
URL:https://patrigraphia.fr/events/permanence-4
SUMMARY:Permanence
DESCRIPTION:
CATEGORIES:Permanence
END:VEVENT
BEGIN:VEVENT
UID:12@patrigraphia.fr
DTSTART:20211002T133000Z
DTEND:20211002T173000Z
DTSTAMP:20210927T153848Z
URL:https://patrigraphia.fr/events/activite-jeune
SUMMARY:Activité jeune
DESCRIPTION:
CATEGORIES:Cours
END:VEVENT
BEGIN:VEVENT
UID:14@patrigraphia.fr
DTSTART:20211113T090000Z
DTEND:20211113T120000Z
DTSTAMP:20210927T154415Z
URL:https://patrigraphia.fr/events/permanence-5
SUMMARY:Permanence
DESCRIPTION:
CATEGORIES:Permanence
END:VEVENT
BEGIN:VEVENT
UID:15@patrigraphia.fr
DTSTART:20211113T133000Z
DTEND:20211113T173000Z
DTSTAMP:20210927T154231Z
URL:https://patrigraphia.fr/events/activite-jeune-2
SUMMARY:Activité jeune
DESCRIPTION:
CATEGORIES:Cours
END:VEVENT
BEGIN:VEVENT
UID:16@patrigraphia.fr
DTSTART:20211119T190000Z
DTEND:20211119T230000Z
DTSTAMP:20210927T154318Z
URL:https://patrigraphia.fr/events/assemblee-generale-ordinaire
SUMMARY:Assemblée Générale Ordinaire
DESCRIPTION:
END:VEVENT
BEGIN:VEVENT
UID:17@patrigraphia.fr
DTSTART:20211204T090000Z
DTEND:20211204T120000Z
DTSTAMP:20210927T154543Z
URL:https://patrigraphia.fr/events/permanence-6
SUMMARY:Permanence
DESCRIPTION:
CATEGORIES:Permanence
END:VEVENT
BEGIN:VEVENT
UID:18@patrigraphia.fr
DTSTART:20211204T133000Z
DTEND:20211204T173000Z
DTSTAMP:20210927T154613Z
URL:https://patrigraphia.fr/events/activite-jeune-3
SUMMARY:Activité jeune
DESCRIPTION:
CATEGORIES:Cours
END:VEVENT
BEGIN:VEVENT
UID:19@patrigraphia.fr
DTSTART:20220108T090000Z
DTEND:20220108T120000Z
DTSTAMP:20210927T154654Z
URL:https://patrigraphia.fr/events/permanence-7
SUMMARY:Permanence
DESCRIPTION:
END:VEVENT
BEGIN:VEVENT
UID:20@patrigraphia.fr
DTSTART:20221204T140000Z
DTEND:20221204T180000Z
DTSTAMP:20221125T130047Z
URL:https://patrigraphia.fr/events/critique-photo
SUMMARY:Critique photo
DESCRIPTION:
CATEGORIES:Cours
END:VEVENT
BEGIN:VEVENT
UID:21@patrigraphia.fr
DTSTART:20221222T200000Z
DTEND:20221222T230000Z
DTSTAMP:20221125T145312Z
URL:https://patrigraphia.fr/events/gimp
SUMMARY:Gimp
DESCRIPTION:Prise  en main de Gimp et mise en valeur des clichés
CATEGORIES:Cours
END:VEVENT
BEGIN:VEVENT
UID:23@patrigraphia.fr
DTSTART:20230114T190000Z
DTEND:20230114T230000Z
DTSTAMP:20221125T143748Z
URL:https://patrigraphia.fr/events/carcassonne
SUMMARY:Carcassonne
DESCRIPTION:Photo de nuit sur Carcassonne avec un repas cassoulet au restau
  pour ceux qui le souhaitent\n\nOrganisée par Thierry-Gabriel
CATEGORIES:Sortie
END:VEVENT
BEGIN:VEVENT
UID:24@patrigraphia.fr
DTSTART:20230119T200000Z
DTEND:20230119T230000Z
DTSTAMP:20221125T144651Z
URL:https://patrigraphia.fr/events/expo-et-pdf
SUMMARY:Expo et PDF
DESCRIPTION:Ouverture\, exposition et profondeur de champ
CATEGORIES:Cours
END:VEVENT
BEGIN:VEVENT
UID:25@patrigraphia.fr
DTSTART:20230212T090000Z
DTEND:20230212T180000Z
DTSTAMP:20221125T145043Z
URL:https://patrigraphia.fr/events/mirepoix
SUMMARY:Mirepoix
DESCRIPTION:Mirepoix et châteaux cathares\n\nOrganisée par Olivier C
CATEGORIES:Sortie
END:VEVENT
END:VCALENDAR